BEGIN:VCALENDAR
VERSION:2.0
PRODID:-//ChamberMaster//Event Calendar 2.0//EN
METHOD:PUBLISH
X-PUBLISHED-TTL:P3D
REFRESH-INTERVAL:P3D
CALSCALE:GREGORIAN
BEGIN:VEVENT
DTSTART:20190202T003000Z
DTEND:20190202T030000Z
X-MICROSOFT-CDO-ALLDAYEVENT:FALSE
SUMMARY:Social Voyagers : Varsity Basketball Game
DESCRIPTION:Come and Join the Social Voyagers as we set sail and discover different activities and Community events throughtout Walworth County. Make sure to dress for the activities and the weather as some nights we will be active and / or outdoor. Please register by December 21 before the spots fill up since we only have 12 places available. In order to join the Social voyagers you must be 16 years old and older\, pay the fee of $65 and provide your own transportation.
X-ALT-DESC;FMTTYPE=text/html:Come and Join the Social Voyagers as we set sail and discover different activities and Community events throughtout Walworth County. Make sure to dress for the activities and the weather as some nights we will be active and / or outdoor. Please register by December 21 before the spots fill up since we only have 12 places available. In order to join the Social voyagers you must be 16 years old and older\, pay the fee of $65 and provide your own transportation.
LOCATION:Elkhorn Area High School (482 E. Geneva Street\, Elkhorn\, WI 53121)
UID:e.2059.10171
SEQUENCE:3
DTSTAMP:20260421T171903Z
URL:https://business.elkhornchamber.com/events/details/social-voyagers-varsity-basketball-game-10171
END:VEVENT

END:VCALENDAR
