BEGIN:VCALENDAR
VERSION:2.0
PRODID:-//ChamberMaster//Event Calendar 2.0//EN
METHOD:PUBLISH
X-PUBLISHED-TTL:P3D
REFRESH-INTERVAL:P3D
CALSCALE:GREGORIAN
BEGIN:VEVENT
DTSTART:20190222T230000Z
DTEND:20190223T010000Z
X-MICROSOFT-CDO-ALLDAYEVENT:FALSE
SUMMARY:Social Voyagers : Nerf Gun War
DESCRIPTION:Come and Join the Social Voyagers as we set sail and discover different activities and Community events throughtout Walworth County. Make sure to dress for the activities and the weather as some nights we will be active and / or outdoor. Please register by December 21 before the spots fill up since we only have 12 places available. In order to join the Social voyagers you must be 16 years old and older\, pay the fee of $65 and provide your own transportation.
X-ALT-DESC;FMTTYPE=text/html:Come and Join the Social Voyagers as we set sail and discover different activities and Community events throughtout Walworth County. Make sure to dress for the activities and the weather as some nights we will be active and / or outdoor. Please register by December 21 before the spots fill up since we only have 12 places available. In order to join the Social voyagers you must be 16 years old and older\, pay the fee of $65 and provide your own transportation.
LOCATION:Bayside Athletics (203 W. Evergreen Pkwy\, Elkhorn\, WI 53121)
UID:e.2059.10174
SEQUENCE:3
DTSTAMP:20260421T171456Z
URL:https://business.elkhornchamber.com/events/details/social-voyagers-nerf-gun-war-10174
END:VEVENT

END:VCALENDAR
