BEGIN:VCALENDAR
VERSION:2.0
PRODID:-//ChamberMaster//Event Calendar 2.0//EN
METHOD:PUBLISH
X-PUBLISHED-TTL:P3D
REFRESH-INTERVAL:P3D
CALSCALE:GREGORIAN
BEGIN:VEVENT
DTSTART:20190208T233000Z
DTEND:20190209T010000Z
X-MICROSOFT-CDO-ALLDAYEVENT:FALSE
SUMMARY:Social Voyagers : Crafting and Cookies
DESCRIPTION:Come and Join the Social Voyagers as we set sail and discover different activities and Community events throughtout Walworth County. Make sure to dress for the activities and the weather as some nights we will be active and / or outdoor. Please register by December 21 before the spots fill up since we only have 12 places available. In order to join the Social voyagers you must be 16 years old and older\, pay the fee of $65 and provide your own transportation.
X-ALT-DESC;FMTTYPE=text/html:Come and Join the Social Voyagers as we set sail and discover different activities and Community events throughtout Walworth County. Make sure to dress for the activities and the weather as some nights we will be active and / or outdoor. Please register by December 21 before the spots fill up since we only have 12 places available. In order to join the Social voyagers you must be 16 years old and older\, pay the fee of $65 and provide your own transportation.
LOCATION:Lions Field House (270 Elkhorn Rd\,Williams Bay\, WI 53191)
UID:e.2059.10172
SEQUENCE:3
DTSTAMP:20260421T171903Z
URL:https://business.elkhornchamber.com/events/details/social-voyagers-crafting-and-cookies-10172
END:VEVENT

END:VCALENDAR
