BEGIN:VCALENDAR
VERSION:2.0
PRODID:-//ChamberMaster//Event Calendar 2.0//EN
METHOD:PUBLISH
X-PUBLISHED-TTL:P3D
REFRESH-INTERVAL:P3D
CALSCALE:GREGORIAN
BEGIN:VEVENT
DTSTART:20190219T000000Z
DTEND:20190219T010000Z
X-MICROSOFT-CDO-ALLDAYEVENT:FALSE
SUMMARY:Social Security Strategies
DESCRIPTION:Learn about your benefit options under Social Security and how to optimize your payout through different claiming strategies.
X-ALT-DESC;FMTTYPE=text/html:<span style="color: rgb(0\, 0\, 0)\; font-family: monospace\; font-size: 12.09px\;">&nbsp\;Learn about your benefit options under Social Security and how to optimize your payout through different claiming strategies.</span>
LOCATION:Wilmont High School 11112 308th Ave\, Wilmot\, WI 53192
UID:e.2059.10286
SEQUENCE:3
DTSTAMP:20260421T185239Z
URL:https://business.elkhornchamber.com/events/details/social-security-strategies-10286
END:VEVENT

END:VCALENDAR
