BEGIN:VCALENDAR
VERSION:2.0
PRODID:-//ChamberMaster//Event Calendar 2.0//EN
METHOD:PUBLISH
X-PUBLISHED-TTL:P3D
REFRESH-INTERVAL:P3D
CALSCALE:GREGORIAN
BEGIN:VEVENT
DTSTART:20150221T170000Z
DTEND:20150221T190000Z
X-MICROSOFT-CDO-ALLDAYEVENT:FALSE
SUMMARY:Snowball Sledding Shindig
DESCRIPTION:DUE TO OTHER FRIGID WEATHER TURNING OUR SNOW INTO ICE\, WE HAVE NO CHOICE BUT TO POSTPONE OUR SNOWBALL SLEDDING SHINDIG THIS SATURDAY\, THE 21ST.  WE ARE JUST AS DISAPPOINTED AS YOU ARE\, BUT THE HILLS AT SUNSET PARK ARE LOOKING KINDA BARE\, AND THE ICE WOULD BE A SAFETY ISSUE FOR ALL.  STAY TUNED FOR A FUTURE DATE TO BE ANNOUNCED HERE ON FACEBOOK!\n\n\n\nIt's a family fun event of sledding\, skating (weather permitting)\, snow forts\, snowballs\, snowmen and snacks at Sunset Park. When warmth is needed\, come inside the recreation center and warm up with hot chocolate and coffee. Plus indoor games for young children.\n\n\n\nProfessional photos will be taken at noon with everyone on the hills for use by the Elkhorn Chamber and Elkhorn Recreation Department.
X-ALT-DESC;FMTTYPE=text/html:DUE TO OTHER&nbsp\;FRIGID WEATHER TURNING OUR SNOW INTO ICE\, WE HAVE NO CHOICE BUT TO POSTPONE OUR SNOWBALL SLEDDING SHINDIG THIS SATURDAY\, THE 21ST. &nbsp\;WE ARE JUST AS DISAPPOINTED AS YOU ARE\, BUT THE HILLS AT SUNSET PARK ARE&nbsp\;LOOKING&nbsp\;KINDA BARE\, AND THE ICE WOULD BE A SAFETY ISSUE FOR ALL. &nbsp\;STAY TUNED FOR A FUTURE DATE TO BE ANNOUNCED HERE ON FACEBOOK!<br />\n<br />\nIt&#39\;s a family fun event of sledding\, skating (weather permitting)\, snow forts\, snowballs\, snowmen and snacks at Sunset Park. When warmth is needed\, come inside the recreation center and warm up with hot chocolate and coffee. Plus indoor games for young children.<br />\n<br />\nProfessional photos will be taken at noon with everyone on the hills for use by the Elkhorn Chamber and Elkhorn Recreation Department.
LOCATION:Sunset Park 200 Devendorf St.\, Elkhorn
UID:e.2059.846
SEQUENCE:3
DTSTAMP:20260425T022758Z
URL:https://business.elkhornchamber.com/events/details/snowball-sledding-shindig-02-21-2015-846
END:VEVENT

END:VCALENDAR
