BEGIN:VCALENDAR
VERSION:2.0
PRODID:-//ChamberMaster//Event Calendar 2.0//EN
METHOD:PUBLISH
X-PUBLISHED-TTL:P3D
REFRESH-INTERVAL:P3D
CALSCALE:GREGORIAN
BEGIN:VEVENT
DTSTART:20180407T170000Z
DTEND:20180407T170000Z
X-MICROSOFT-CDO-ALLDAYEVENT:FALSE
SUMMARY:Snow Lovers Party
DESCRIPTION:Bring your friends and family! You're invited to our snow lovers party! In Stock accessories and apparel clearance. Free jacket when  you snowcheck your 2019 sled\, free apparel when you preorder your next years gear. Food and Drinks! Free beer! Giveaways!
X-ALT-DESC;FMTTYPE=text/html:&nbsp\;Bring your friends and family! You&#39\;re invited to our snow lovers party! In Stock accessories and apparel clearance. Free jacket when&nbsp\; you snowcheck&nbsp\;your 2019 sled\, free apparel&nbsp\;when you preorder your next years gear. Food and Drinks! Free beer! Giveaways!
LOCATION:A+ Power Sports 622 E. Court Street Elkhorn\, Wi
UID:e.2059.8756
SEQUENCE:3
DTSTAMP:20260422T102506Z
URL:https://business.elkhornchamber.com/events/details/snow-lovers-party-8756
END:VEVENT

END:VCALENDAR
