BEGIN:VCALENDAR
VERSION:2.0
PRODID:-//ChamberMaster//Event Calendar 2.0//EN
METHOD:PUBLISH
X-PUBLISHED-TTL:P3D
REFRESH-INTERVAL:P3D
CALSCALE:GREGORIAN
BEGIN:VEVENT
DTSTART:20181027T160000Z
DTEND:20181027T170000Z
X-MICROSOFT-CDO-ALLDAYEVENT:FALSE
SUMMARY:Snake Discover: The TRUTH About Reptiles!
DESCRIPTION:Think snakes are scary\, salamanders are slimy\, and turtles are terrible? Come learn the truth about these fascinating reptiles and see them LIVE with Snake Discovery.\n\nFamilies\, adults\, and children of all ages welcome. There will be time for pictures and touching after the program.
X-ALT-DESC;FMTTYPE=text/html:<p style="text-align:center"><span style="font-size:12.8px">Think snakes are scary\, salamanders are slimy\, and turtles are terrible? Come learn the truth about these fascinating reptiles and see them LIVE with Snake Discovery.</span></p>\n\n<p style="text-align:center"><span style="font-size:12.8px">Families\, adults\, and children of all ages welcome. There will be time for pictures and touching after the program.</span></p>\n\n<div>&nbsp\;</div>\n
LOCATION:Matheson Memorial Library
UID:e.2059.9505
SEQUENCE:3
DTSTAMP:20260422T002151Z
URL:https://business.elkhornchamber.com/events/details/snake-discover-the-truth-about-reptiles-9505
END:VEVENT

END:VCALENDAR
