BEGIN:VCALENDAR
VERSION:2.0
PRODID:-//ChamberMaster//Event Calendar 2.0//EN
METHOD:PUBLISH
X-PUBLISHED-TTL:P3D
REFRESH-INTERVAL:P3D
CALSCALE:GREGORIAN
BEGIN:VEVENT
DTSTART:20170211T230000Z
DTEND:20170212T020000Z
X-MICROSOFT-CDO-ALLDAYEVENT:FALSE
SUMMARY:Sip 'N Purr
DESCRIPTION:The 8th annual Sip N Purr Wine Tasting February 11th\, 2017 from 5-8 pm at the Abbey Resort in Fontana!\n\nPlease join us for a fun fill night of great wines\, beers and gourmet food! A list of vendors will be available soon!
X-ALT-DESC;FMTTYPE=text/html:<p>The 8th annual Sip N Purr Wine Tasting February 11th\, 2017 from 5-8 pm at the Abbey Resort in Fontana!</p>\n\n<p>Please join us for a fun fill night of great wines\, beers<span class="text_exposed_show"> and gourmet food! A list of vendors will be available soon!</span></p>\n
LOCATION:Abbey Resort & Spa 269 Fontana BLVD Fontana\, WI
UID:e.2059.4693
SEQUENCE:3
DTSTAMP:20260423T111318Z
URL:https://business.elkhornchamber.com/events/details/sip-n-purr-4693
END:VEVENT

END:VCALENDAR
