BEGIN:VCALENDAR
VERSION:2.0
PRODID:-//ChamberMaster//Event Calendar 2.0//EN
METHOD:PUBLISH
X-PUBLISHED-TTL:P3D
REFRESH-INTERVAL:P3D
CALSCALE:GREGORIAN
BEGIN:VEVENT
DTSTART:20190604T230000Z
DTEND:20190605T003000Z
X-MICROSOFT-CDO-ALLDAYEVENT:FALSE
SUMMARY:Showing Discover Wisconsin Episode of "Postcard Perfect" featuring Elkhorn
DESCRIPTION:Please join us at Elkhorn Area High School James Wehner Auditorium for a special showing of the Discover Wisconsin episode featuring Elkhorn Area " Postcard Perfect". Doors will open at 6:00 pm and showing will start at 6:30 pm. Open to the public\, Reserve your seat Today!
X-ALT-DESC;FMTTYPE=text/html:Please join us at Elkhorn Area High School James Wehner Auditorium for a special showing of the Discover Wisconsin episode featuring Elkhorn Area &quot\; Postcard Perfect&quot\;. Doors will open at 6:00 pm and showing will start at 6:30 pm. Open to the public\, Reserve your seat Today!<br />\n&nbsp\;
LOCATION:Elkhorn Area High School James Wehner Auditorium
UID:e.2059.10905
SEQUENCE:3
DTSTAMP:20260421T052636Z
URL:https://business.elkhornchamber.com/events/details/showing-discover-wisconsin-episode-of-postcard-perfect-featuring-elkhorn-10905
END:VEVENT

END:VCALENDAR
