BEGIN:VCALENDAR
VERSION:2.0
PRODID:-//ChamberMaster//Event Calendar 2.0//EN
METHOD:PUBLISH
X-PUBLISHED-TTL:P3D
REFRESH-INTERVAL:P3D
CALSCALE:GREGORIAN
BEGIN:VEVENT
DTSTART:20151205T220000Z
DTEND:20151206T220000Z
X-MICROSOFT-CDO-ALLDAYEVENT:FALSE
SUMMARY:Show Biz ~ Children's Holiday Musical
DESCRIPTION:Lakeland Players Ltd. presents a Children's Holiday Musical about the Joys of Winter~~           SHOW BIZ!\n\nBook & Music by John Jacobson & Mac Huff. Produced by Linda Kouaes. Direction\, Musical Direction & Choreography by Amberleigh Aller.\n\nNo Reserved Seating~
X-ALT-DESC;FMTTYPE=text/html:Lakeland Players Ltd. presents a Children&#39\;s Holiday Musical about the Joys of Winter~~&nbsp\;&nbsp\;&nbsp\;&nbsp\;&nbsp\;&nbsp\;&nbsp\;&nbsp\;&nbsp\;&nbsp\; SHOW BIZ!<br />\nBook &amp\; Music by John Jacobson &amp\; Mac Huff. Produced by Linda Kouaes. Direction\, Musical Direction &amp\; Choreography by Amberleigh Aller.<br />\nNo Reserved Seating~
LOCATION:Walworth County Performing Arts Center 15 W. Walworth St Elkhorn\, WI
UID:e.2059.1806
SEQUENCE:3
DTSTAMP:20260424T095147Z
URL:https://business.elkhornchamber.com/events/details/show-biz-children-s-holiday-musical-12-05-2015-1806
END:VEVENT

END:VCALENDAR
