BEGIN:VCALENDAR
VERSION:2.0
PRODID:-//ChamberMaster//Event Calendar 2.0//EN
METHOD:PUBLISH
X-PUBLISHED-TTL:P3D
REFRESH-INTERVAL:P3D
CALSCALE:GREGORIAN
BEGIN:VEVENT
DTSTART:20180926T000000Z
DTEND:20180926T010000Z
X-MICROSOFT-CDO-ALLDAYEVENT:FALSE
SUMMARY:Short Story Book Club
DESCRIPTION:Quick reads and adult beverages at this fun new book club! We will be reading and discussing short stories\, most of which are rarely more than 20 pages long. In addition\, this group will be meeting in local taverns and pubs!\n\nOur first meeting will be at the Not Too Far Away Pub and Grill at N6444 US-12 in Abells Corners at 7:00 PM. This month we will be discussing Graham Greene by Percival Everett (from Half an Inch of Water). We will determine the next month's meeting place at each meeting.\n\nAll selections will be available at the circulation desk.
X-ALT-DESC;FMTTYPE=text/html:<p style="text-align:center">Quick reads and adult beverages at this&nbsp\;fun new book club! We will be reading and discussing short stories\, most of which are rarely more than 20 pages long. In addition\, this group will be meeting in local taverns and pubs!</p>\n\n<p style="text-align:center">Our first meeting will be at the Not Too Far Away Pub and Grill at N6444 US-12 in Abells Corners at 7:00 PM. This month we will be discussing&nbsp\;<strong><em>Graham Greene</em>&nbsp\;by Percival Everett (from&nbsp\;<em>Half an Inch of Water)</em></strong>. We will determine the next month&#39\;s meeting place at each meeting.</p>\n\n<p style="text-align:center">All selections will be available at the circulation desk.</p>\n
LOCATION:This month: Not Too Far Away Pub and Grill\, N6444 US-12\, Abells Corners.
UID:e.2059.9169
SEQUENCE:3
DTSTAMP:20260422T020937Z
URL:https://business.elkhornchamber.com/events/details/short-story-book-club-9169
END:VEVENT

END:VCALENDAR
