BEGIN:VCALENDAR
VERSION:2.0
PRODID:-//ChamberMaster//Event Calendar 2.0//EN
METHOD:PUBLISH
X-PUBLISHED-TTL:P3D
REFRESH-INTERVAL:P3D
CALSCALE:GREGORIAN
BEGIN:VEVENT
DTSTART:20191218T010000Z
DTEND:20191218T020000Z
X-MICROSOFT-CDO-ALLDAYEVENT:FALSE
SUMMARY:Short Story Book Club
DESCRIPTION:Quick reads and adult beverages at this fun new book club! We will be reading and discussing short stories\, most of which are rarely more than 20 pages long. In addition\, this group meets in a local  pub!\n\nAll selections are available at the information desk.\n\n We meet at Mama T's\, 781 E. Geneva St.\, Elkhorn\n\nDecember selection: Stubby Pringle's Christmas by Jack Shaefer
X-ALT-DESC;FMTTYPE=text/html:<p style="text-align:center">Quick reads and adult beverages at this&nbsp\;fun new book club! We will be reading and discussing short stories\, most of which are rarely more than 20 pages long. In addition\, this group meets in a local&nbsp\; pub!</p>\n\n<p style="text-align:center">All selections are&nbsp\;available at the information&nbsp\;desk.</p>\n\n<p style="text-align:center"><strong>&nbsp\;We meet at Mama T&#39\;s\, 781 E. Geneva St.\, Elkhorn</strong></p>\n\n<p style="text-align:center"><strong>December selection: <em>Stubby Pringle&#39\;s Christmas&nbsp\;</em>by Jack Shaefer</strong></p>\n\n<p style="text-align:center">&nbsp\;</p>\n
LOCATION:Mama T's\, 781 E. Geneva St. in Elkhorn.
UID:e.2059.11264
SEQUENCE:3
DTSTAMP:20260420T010034Z
URL:https://business.elkhornchamber.com/events/details/short-story-book-club-12-17-2019-11264
END:VEVENT

END:VCALENDAR
