BEGIN:VCALENDAR
VERSION:2.0
PRODID:-//ChamberMaster//Event Calendar 2.0//EN
METHOD:PUBLISH
X-PUBLISHED-TTL:P3D
REFRESH-INTERVAL:P3D
CALSCALE:GREGORIAN
BEGIN:VEVENT
DTSTART:20191120T010000Z
DTEND:20191120T020000Z
X-MICROSOFT-CDO-ALLDAYEVENT:FALSE
SUMMARY:Short Story Book Club
DESCRIPTION:Quick reads and adult beverages at this fun new book club! We will be reading and discussing short stories\, most of which are rarely more than 20 pages long. In addition\, this group meets in a local  pub!\n\nAll selections are available at the information desk.\n\n We meet at Mama T's\, 781 E. Geneva St.\, Elkhorn\n\nNovember selection: Mrs. Perez by Oscar Cesares (from his book Brownsville)
X-ALT-DESC;FMTTYPE=text/html:<p style="text-align:center">Quick reads and adult beverages at this&nbsp\;fun new book club! We will be reading and discussing short stories\, most of which are rarely more than 20 pages long. In addition\, this group meets in a local&nbsp\; pub!</p>\n\n<p style="text-align:center">All selections are&nbsp\;available at the information&nbsp\;desk.</p>\n\n<p style="text-align:center"><strong>&nbsp\;We meet at Mama T&#39\;s\, 781 E. Geneva St.\, Elkhorn</strong></p>\n\n<p style="text-align:center"><strong>November selection:&nbsp\;<em>Mrs. Perez&nbsp\;</em>by Oscar Cesares (from his book&nbsp\;<em>Brownsville</em>)</strong></p>\n\n<p style="text-align:center">&nbsp\;</p>\n
LOCATION:Mama T's\, 781 E. Geneva St. in Elkhorn.
UID:e.2059.11239
SEQUENCE:3
DTSTAMP:20260420T055657Z
URL:https://business.elkhornchamber.com/events/details/short-story-book-club-11-19-2019-11239
END:VEVENT

END:VCALENDAR
