BEGIN:VCALENDAR
VERSION:2.0
PRODID:-//ChamberMaster//Event Calendar 2.0//EN
METHOD:PUBLISH
X-PUBLISHED-TTL:P3D
REFRESH-INTERVAL:P3D
CALSCALE:GREGORIAN
BEGIN:VEVENT
DTSTART:20190327T000000Z
DTEND:20190327T010000Z
X-MICROSOFT-CDO-ALLDAYEVENT:FALSE
SUMMARY:Short Story Book Club
DESCRIPTION:Quick reads and adult beverages at this fun new book club! We will be reading and discussing short stories\, most of which are rarely more than 20 pages long. In addition\, this group meets in a local  pub!\n\nAll selections are available at the information desk.\n\n We meet at Not Too Far Away Pub & Grill\, N6444 US-12\, in Elkhorn.\n\nMarch selection: The Great Wide World Over There by Ray Bradbury
X-ALT-DESC;FMTTYPE=text/html:<p style="text-align:center">Quick reads and adult beverages at this&nbsp\;fun new book club! We will be reading and discussing short stories\, most of which are rarely more than 20 pages long. In addition\, this group meets in a local&nbsp\; pub!</p>\n\n<p style="text-align:center">All selections are&nbsp\;available at the information&nbsp\;desk.</p>\n\n<p style="text-align:center"><strong>&nbsp\;We meet at Not Too Far Away Pub &amp\; Grill\, N6444 US-12\, in Elkhorn.</strong></p>\n\n<p style="text-align:center"><strong>March selection:&nbsp\;<em>The Great Wide World Over There</em>&nbsp\;by Ray Bradbury</strong></p>\n
LOCATION:Not Too Far Away Pub & Grill\, N6444 US-12\, in Elkhorn.
UID:e.2059.10328
SEQUENCE:3
DTSTAMP:20260421T171955Z
URL:https://business.elkhornchamber.com/events/details/short-story-book-club-03-26-2019-10328
END:VEVENT

END:VCALENDAR
