BEGIN:VCALENDAR
VERSION:2.0
PRODID:-//ChamberMaster//Event Calendar 2.0//EN
METHOD:PUBLISH
X-PUBLISHED-TTL:P3D
REFRESH-INTERVAL:P3D
CALSCALE:GREGORIAN
BEGIN:VEVENT
DTSTART:20190208T003000Z
DTEND:20190208T013000Z
X-MICROSOFT-CDO-ALLDAYEVENT:FALSE
SUMMARY:Shifting the Electoral College
DESCRIPTION:Join Dr. Eric Loepp\, assistant professor of political science at UW-Whitewater\, in a current events comversation about the Electoral College: Why we have it\, how it affects campaigns and elections\, what the alternatives are\, and how history might have been different had another system been in place in the past. \n\nMeet at the Fireside Room at the Ridge Hotel -- W4240 Highway 50\, Lake Geneva\n\n\n\n*A collaborative program with Aram Public Library\, Barrett Memorial Library\, Fontana Public Library\, Lake Geneva Public Library\, and Matheson Memorial Library.
X-ALT-DESC;FMTTYPE=text/html:<div style="text-align: center\;">Join Dr. Eric Loepp\, assistant professor of political science at UW-Whitewater\, in a current events comversation about the Electoral College: Why we have it\, how it affects campaigns and elections\, what the alternatives are\, and how history might have been different had another system been in place in the past.&nbsp\;<br />\n<strong>Meet at the Fireside Room at the Ridge Hotel -- W4240 Highway 50\, Lake Geneva</strong><br />\n<br />\n*A collaborative program with Aram Public Library\, Barrett Memorial Library\, Fontana Public Library\, Lake Geneva Public Library\, and Matheson Memorial Library.&nbsp\;</div>\n
LOCATION:Fireside Room at the Ridge Hotel -- W4240 Highway 50\, Lake Geneva
UID:e.2059.10320
SEQUENCE:3
DTSTAMP:20260421T171457Z
URL:https://business.elkhornchamber.com/events/details/shifting-the-electoral-college-10320
END:VEVENT

END:VCALENDAR
