BEGIN:VCALENDAR
VERSION:2.0
PRODID:-//ChamberMaster//Event Calendar 2.0//EN
METHOD:PUBLISH
X-PUBLISHED-TTL:P3D
REFRESH-INTERVAL:P3D
CALSCALE:GREGORIAN
BEGIN:VEVENT
DTSTART;VALUE=DATE:20170728
DTEND;VALUE=DATE:20170731
TRANSP:TRANSPARENT
X-MICROSOFT-CDO-ALLDAYEVENT:TRUE
SUMMARY:Shake the Lake 3 Day Music Festival at Lake Lawn Resort
DESCRIPTION:Along the shores of Delavan Lake\, Shake the Lake Music Festival returns better than ever\, bringing you 3 Days of FUN\, FOOD\, and DRINK. We have a packed lineup of "Decades Rock" Friday\, Saturday & Sunday. Along with amazing tunes\, there will be fun activities\, such as an 80's-themed Costume Contest\, Lip Sync Battles\, the Walworth County Bags Tournament Championship\, Carnival Games\, Food Trucks\, Kids Activities and much more!!\n\n\n\nhttps://www.lakelawnresort.com/events/shake-lake-music-festival/\n\n\n\nMUSIC LINEUP:\n\n\n\nFRIDAY\, JULY 28\n\nOpening the festival will be the area's best U2 cover band\, U2 Zoo! Headlining is Trippin Billies\, the nation's premier Dave Matthews touring tribute act.\n\n6:00pm U2 Zoo\n\n9:00pm Trippin Billies\n\n\n\nSATURDAY\, JULY 29\n\nExpect a fun-filled day rocking to the best 80's music. Bring your best 80's costume! Prizes will be awarded during their show for the best outfit\, and winners will be announced onstage. The most dynamic Prince Tribute band\, The Prince Experience\, so come out and party like it's 1999!\n\n12:00pm House of Music\n\n2:00pm Triple D\n\n6:30pm SuperFly\n\n9:00pm Prince Experience\n\n\n\nSUNDAY\, JULY 30\n\nA great afternoon of 70's rock will keep the party rolling. The day will get started with the great cover hits from the Big Al Wetzel Band and finish off with the midwest's premier Chicago tribute band\, Chicago Tribute Anthology. CTA produces a driving rhythm section\, powerful horns\, and authentic vocals that combine to recreate the sound of one of the most exciting and enduring bands of all time\, Chicago!\n\n12:00pm Big Al Wetzel Band\n\n2:00pm Chicago Tribute Anthology\n\n\n\nWALWORTH COUNTY BAGS CHAMPIONSHIP\n\nThe 2nd Annual Bags Championship will be held on the Shake the Lake grounds at 4:00 pm on Saturday\, July 29. There will be cash payouts for the top 3 teams\, as well as other great prizes! There will be a trophy presentation for our 1st place winner.\n\n\n\nOur Bags Championship ticket package includes 2 tickets for Saturday's festivities and entry for your two-person team into the tournament. You must select this ticket option to participate.\n\n\n\nTHERE WILL BE TONS OF FUN ACTIVITIES:\n\n-Giant Jenga\n\n-Bag Toss\n\n-Ladder Golf\n\n-Water Balloon Challenge (water balloon fights)\n\n-Mist Zone (large misting machine)\n\n-Electronic Bball shoot\n\n-Electronic Football throw\n\n-Life-sized Connect 4\n\n-Pirate Beanbag toss\n\n-Bubble Soccer\n\n-Foot Darts\n\n\n\nTICKETS AVAILABLE HERE: https://tinyurl.com/lodl5bx\n\n\n\nFAQS\n\nWhat are my transport/parking options getting to the event?\n\n\n\nThere will be free parking adjacent to the festival grounds.\n\n\n\nWhat can/can't I bring to the event?\n\n\n\nNo outside food and beverage.\n\n\n\nYou CAN bring your own chairs.\n\n\n\nHow can I contact the organizer with questions?\n\n\n\nEmail your questions to info@lakelawnresort.com or call us at 262-728-7950\n\n\n\nDo kids get in free?\n\n\n\nKids 10 or younger will get in free.\n\n\n\nClick Here for TICKETS: https://tinyurl.com/lodl5bx
X-ALT-DESC;FMTTYPE=text/html:<span class="_4n-j _fbReactionComponent__eventDetailsContentTags fsl" data-testid="event-permalink-details">Along the shores of Delavan Lake\, Shake the Lake Music Festival returns better than ever\, bringing you 3 Days of FUN\, FOOD\, and DRINK. We have a packed lineup of &ldquo\;Decades Rock&rdquo\; Friday\, Saturday &amp\; Sunday. Along with amazing tunes\, there will be fun activities\, such as an 80&rsquo\;s-themed Costume Contest\, Lip Sync Battles\, the Walworth County Bags Tournament Championship\, Carnival Games\, Food Trucks\, Kids Activities and much more!!<br />\n<br />\n<a href="https://www.lakelawnresort.com/events/shake-lake-music-festival/" rel="nofollow nofollow" target="_blank"><span>https://</span><wbr /><span>www.lakelawnresort.com/</span><wbr /><span>events/</span><wbr />shake-lake-music-festival/</a><br />\n<br />\nMUSIC LINEUP:<br />\n<br />\nFRIDAY\, JULY 28<br />\nOpening the festival will be the area&rsquo\;s best U2 cover band\, U2 Zoo! Headlining is Trippin Billies\, the nation&rsquo\;s premier Dave Matthews touring tribute act.<br />\n6:00pm U2 Zoo<br />\n9:00pm Trippin Billies<br />\n<br />\n<span class="text_exposed_show">SATURDAY\, JULY 29<br />\nExpect a fun-filled day rocking to the best 80&rsquo\;s music. Bring your best 80&rsquo\;s costume! Prizes will be awarded during their show for the best outfit\, and winners will be announced onstage. The most dynamic Prince Tribute band\, The Prince Experience\, so come out and party like it&rsquo\;s 1999!<br />\n12:00pm House of Music<br />\n2:00pm Triple D<br />\n6:30pm SuperFly<br />\n9:00pm Prince Experience<br />\n<br />\nSUNDAY\, JULY 30<br />\nA great afternoon of 70&rsquo\;s rock will keep the party rolling. The day will get started with the great cover hits from the Big Al Wetzel Band and finish off with the midwest&#39\;s premier Chicago tribute band\, Chicago Tribute Anthology. CTA produces a driving rhythm section\, powerful horns\, and authentic vocals that combine to recreate the sound of one of the most exciting and enduring bands of all time\, Chicago!<br />\n12:00pm Big Al Wetzel Band<br />\n2:00pm Chicago Tribute Anthology<br />\n<br />\nWALWORTH COUNTY BAGS CHAMPIONSHIP<br />\nThe 2nd Annual Bags Championship will be held on the Shake the Lake grounds at 4:00 pm on Saturday\, July 29. There will be cash payouts for the top 3 teams\, as well as other great prizes! There will be a trophy presentation for our 1st place winner.<br />\n<br />\nOur Bags Championship ticket package includes 2 tickets for Saturday&rsquo\;s festivities and entry for your two-person team into the tournament. You must select this ticket option to participate.<br />\n<br />\nTHERE WILL BE TONS OF FUN ACTIVITIES:<br />\n-Giant Jenga<br />\n-Bag Toss<br />\n-Ladder Golf<br />\n-Water Balloon Challenge (water balloon fights)<br />\n-Mist Zone (large misting machine)<br />\n-Electronic Bball shoot<br />\n-Electronic Football throw<br />\n-Life-sized Connect 4<br />\n-Pirate Beanbag toss<br />\n-Bubble Soccer<br />\n-Foot Darts<br />\n<br />\nTICKETS AVAILABLE HERE: <a href="https://tinyurl.com/lodl5bx" rel="nofollow nofollow" target="_blank"><span>https://tinyurl.com/</span><wbr />lodl5bx</a><br />\n<br />\nFAQS<br />\nWhat are my transport/parking options getting to the event?<br />\n<br />\nThere will be free parking adjacent to the festival grounds.<br />\n<br />\nWhat can/can&rsquo\;t I bring to the event?<br />\n<br />\nNo outside food and beverage.<br />\n<br />\nYou CAN bring your own chairs.<br />\n<br />\nHow can I contact the organizer with questions?<br />\n<br />\nEmail your questions to info@lakelawnresort.com or call us at 262-728-7950<br />\n<br />\nDo kids get in free?<br />\n<br />\nKids 10 or younger will get in free.<br />\n<br />\nClick Here for TICKETS: <a href="https://tinyurl.com/lodl5bx" rel="nofollow nofollow" target="_blank"><span>https://tinyurl.com/</span><wbr />lodl5bx</a></span></span>
LOCATION:Lake Lawn Resort 2400 East Geneva Street Delavan\, WI 53115
UID:e.2059.5490
SEQUENCE:3
DTSTAMP:20260423T012948Z
URL:https://business.elkhornchamber.com/events/details/shake-the-lake-3-day-music-festival-at-lake-lawn-resort-5490
END:VEVENT

END:VCALENDAR
