BEGIN:VCALENDAR
VERSION:2.0
PRODID:-//ChamberMaster//Event Calendar 2.0//EN
METHOD:PUBLISH
X-PUBLISHED-TTL:P3D
REFRESH-INTERVAL:P3D
CALSCALE:GREGORIAN
BEGIN:VEVENT
DTSTART:20160331T170000Z
DTEND:20160331T200000Z
X-MICROSOFT-CDO-ALLDAYEVENT:FALSE
SUMMARY:Senior Health Fair
DESCRIPTION:Open to the public. Please attend our 2nd Annual Senior Health Fair in our Elkhorn Community Room. Hosted by our Golden Key Club. Bone density & blood pressure screenings will be available by Mercy Health System. There will also be Chiropractic information given by The Wellness Pointe.
X-ALT-DESC;FMTTYPE=text/html:Open to the public. Please attend our 2nd Annual Senior Health Fair in our Elkhorn Community Room. Hosted by our Golden Key Club. Bone density &amp\; blood pressure screenings will be available by Mercy Health System. There will also be Chiropractic information given by The Wellness Pointe.
LOCATION:Peoples Bank 837 N Wisconsin St Elkhorn\, WI 53121
UID:e.2059.2927
SEQUENCE:3
DTSTAMP:20260424T064254Z
URL:https://business.elkhornchamber.com/events/details/senior-health-fair-03-31-2016-2927
END:VEVENT

END:VCALENDAR
