BEGIN:VCALENDAR
VERSION:2.0
PRODID:-//ChamberMaster//Event Calendar 2.0//EN
METHOD:PUBLISH
X-PUBLISHED-TTL:P3D
REFRESH-INTERVAL:P3D
CALSCALE:GREGORIAN
BEGIN:VEVENT
DTSTART:20170628T190000Z
DTEND:20170628T210000Z
X-MICROSOFT-CDO-ALLDAYEVENT:FALSE
SUMMARY:Senior Bingo Night
DESCRIPTION:Join us for Senior Bingo Night!\n\nThis event is brought to you by Tender Reflections\, An assisted living community. Games will be called from 2:00 until 4:00pm. Prizes for the Top Winners as well as a fun atmosphere for the whole family. Our building is handicap accessible so please\, bring everyone in the family! Stroller and babies and all!\n\nWe look forward to seeing you!\n\nBINGO!!
X-ALT-DESC;FMTTYPE=text/html:Join us for Senior Bingo Night!<br />\nThis event is brought to you by Tender Reflections\, An assisted living community. Games will be called from 2:00 until 4:00pm. Prizes for the Top Winners as well as a fun atmosphere for the whole family. Our building is handicap accessible so please\, bring everyone in the family! Stroller and babies and all!<br />\nWe look forward to seeing you!<br />\nBINGO!!
LOCATION:Tender Reflections An Assisted Living Community 1550 Country Club Pkwy Elkhorn\, WI
UID:e.2059.5473
SEQUENCE:3
DTSTAMP:20260423T055444Z
URL:https://business.elkhornchamber.com/events/details/senior-bingo-night-5473
END:VEVENT

END:VCALENDAR
