BEGIN:VCALENDAR
VERSION:2.0
PRODID:-//ChamberMaster//Event Calendar 2.0//EN
METHOD:PUBLISH
X-PUBLISHED-TTL:P3D
REFRESH-INTERVAL:P3D
CALSCALE:GREGORIAN
BEGIN:VEVENT
DTSTART:20171215T003000Z
DTEND:20171215T020000Z
X-MICROSOFT-CDO-ALLDAYEVENT:FALSE
SUMMARY:Seasonal Celtic Music
DESCRIPTION:Join Emily and MaryKathleen of the Celtic music duo Emerald Wind\, as they play traditional Irish holiday favorites on harp and flute.\n\nYou're invited to listen to their beautiful music while you enjoy the Christmas artwork of Jan Castle-Reed.
X-ALT-DESC;FMTTYPE=text/html:<p style="text-align:center">Join Emily and MaryKathleen of the Celtic music duo Emerald Wind\, as they play&nbsp\;traditional Irish holiday favorites on harp and flute.</p>\n\n<p style="text-align:center">You&rsquo\;re invited to listen to their beautiful music while you enjoy the Christmas artwork of Jan Castle-Reed.</p>\n
LOCATION:Matheson Memorial Library
UID:e.2059.7294
SEQUENCE:3
DTSTAMP:20260422T164807Z
URL:https://business.elkhornchamber.com/events/details/seasonal-celtic-music-7294
END:VEVENT

END:VCALENDAR
