BEGIN:VCALENDAR
VERSION:2.0
PRODID:-//ChamberMaster//Event Calendar 2.0//EN
METHOD:PUBLISH
X-PUBLISHED-TTL:P3D
REFRESH-INTERVAL:P3D
CALSCALE:GREGORIAN
BEGIN:VEVENT
DTSTART:20160928T140000Z
DTEND:20160928T140000Z
X-MICROSOFT-CDO-ALLDAYEVENT:FALSE
SUMMARY:Scramble for a Cure Golf Outing
DESCRIPTION:Join us for the Ninth Annual Scramble for a Cure Golf Outing\, Wednesday September 28th. At last years outing over $19\,000.00 was raised and donated to Carbone Cancer at the UW Hospital..this year will be even better! Breast Cancer affects 1 in 8 women in their lifetime and has personally affected our founders.\n\nA total of $107\,00.00 has been raised sense the start...THANK YOU!\n\nFor more information contact Bill Rogers at Evergreen Country Club by calling 262-723-5722.
X-ALT-DESC;FMTTYPE=text/html:Join us for the Ninth Annual Scramble for a Cure Golf Outing\, Wednesday September 28th. At last years outing over $19\,000.00 was raised and donated to Carbone Cancer at the UW Hospital..this year will be even better! Breast Cancer affects 1 in 8 women in their lifetime and has personally affected our founders.<br />\nA total of $107\,00.00 has been raised sense the start...THANK YOU!<br />\nFor more information contact Bill Rogers at Evergreen Country Club by calling 262-723-5722.
LOCATION:Evergreen Country Club N6246 Us Hwy 12 Elkhorn\, Wi 53121
UID:e.2059.4538
SEQUENCE:3
DTSTAMP:20260423T184852Z
URL:https://business.elkhornchamber.com/events/details/scramble-for-a-cure-golf-outing-4538
END:VEVENT

END:VCALENDAR
