BEGIN:VCALENDAR
VERSION:2.0
PRODID:-//ChamberMaster//Event Calendar 2.0//EN
METHOD:PUBLISH
X-PUBLISHED-TTL:P3D
REFRESH-INTERVAL:P3D
CALSCALE:GREGORIAN
BEGIN:VEVENT
DTSTART;VALUE=DATE:20150930
DTEND;VALUE=DATE:20151001
TRANSP:TRANSPARENT
X-MICROSOFT-CDO-ALLDAYEVENT:TRUE
SUMMARY:Scramble for a Cure
DESCRIPTION:8th Annual Scramble for a Cure Golf Outing
X-ALT-DESC;FMTTYPE=text/html:8th Annual Scramble for a Cure Golf Outing
LOCATION:Evergreen Country Club\, N6246 US Hwy 12\, Elkhorn WI 53121
UID:e.2059.1671
SEQUENCE:3
DTSTAMP:20260424T141315Z
URL:https://business.elkhornchamber.com/events/details/scramble-for-a-cure-09-30-2015-1671
END:VEVENT

END:VCALENDAR
