BEGIN:VCALENDAR
VERSION:2.0
PRODID:-//ChamberMaster//Event Calendar 2.0//EN
METHOD:PUBLISH
X-PUBLISHED-TTL:P3D
REFRESH-INTERVAL:P3D
CALSCALE:GREGORIAN
BEGIN:VEVENT
DTSTART:20171103T200000Z
DTEND:20171103T230000Z
X-MICROSOFT-CDO-ALLDAYEVENT:FALSE
SUMMARY:Science Festival at the Library
DESCRIPTION:November 2nd through the 5th are the dates for the University of Wisconsin Science Festival\, and this year the Matheson Memorial Library will be joining the fun! Please join us for a talk and demonstration from Michael Baell and Greg Vaughan from the Wisconsin Center for Education Research\, who work on developing video games to aid in education. They'll be bringing iPads to show off At Play in the Cosmos\, a new game they've developed that\, while providing a fun experience\, teaches astronomy concepts. The talk will be held at 4:30pm. We'll have plenty of fun activities\, including a 3D Printer\, before and after the program. Please join us for a fun and educational afternoon!
X-ALT-DESC;FMTTYPE=text/html:November 2nd through the 5th are the dates for the University of Wisconsin Science Festival\, and this year the Matheson Memorial Library will be joining the fun! Please join us for a talk and demonstration from Michael Baell and Greg Vaughan from the Wisconsin Center for Education Research\, who work on developing video games to aid in education. They&rsquo\;ll be bringing iPads to show off At Play in the Cosmos\, a new game they&rsquo\;ve developed that\, while providing a fun experience\, teaches astronomy concepts. The talk will be held at 4:30pm. We&rsquo\;ll have plenty of fun activities\, including a 3D Printer\, before and after the program. Please join us for a fun and educational afternoon!
LOCATION:Matheson Memorial Library
UID:e.2059.7005
SEQUENCE:3
DTSTAMP:20260422T182803Z
URL:https://business.elkhornchamber.com/events/details/science-festival-at-the-library-7005
END:VEVENT

END:VCALENDAR
