BEGIN:VCALENDAR
VERSION:2.0
PRODID:-//ChamberMaster//Event Calendar 2.0//EN
METHOD:PUBLISH
X-PUBLISHED-TTL:P3D
REFRESH-INTERVAL:P3D
CALSCALE:GREGORIAN
BEGIN:VEVENT
DTSTART:20170601T230000Z
DTEND:20170602T000000Z
X-MICROSOFT-CDO-ALLDAYEVENT:FALSE
SUMMARY:Say Goodbye to Joint Pain
DESCRIPTION:Dr. Todd Barnhardt\, orthopedic surgeon\, will present nonsurgical and surgical treatments for joint pain\, including the effects arthritis can have on the body. You will have the opportunity to ask questions\, or if you prefer\, submit your questions ahead of time by sending them to anna.poppe@aurora.org. Light refreshments will be served. You will have the opportunity to schedule a consultation at the event. Join us for this free seminar on Thursday\, June 1 at 6:00 PM. Register online or by calling 800-499-5736.
X-ALT-DESC;FMTTYPE=text/html:Dr. Todd Barnhardt\, orthopedic surgeon\, will present nonsurgical and surgical treatments for joint pain\, including the effects arthritis can have on the body. You will have the opportunity to ask questions\, or if you prefer\, submit your questions ahead of time by sending them to anna.poppe@aurora.org. Light refreshments will be served. You will have the opportunity to schedule a consultation at the event. Join us for this free seminar on Thursday\, June 1 at 6:00 PM. Register online or by calling 800-499-5736.
LOCATION:Cafe 213 213 E Main Street Waterford\, WI
UID:e.2059.5083
SEQUENCE:3
DTSTAMP:20260423T041801Z
URL:https://business.elkhornchamber.com/events/details/say-goodbye-to-joint-pain-5083
END:VEVENT

END:VCALENDAR
