BEGIN:VCALENDAR
VERSION:2.0
PRODID:-//ChamberMaster//Event Calendar 2.0//EN
METHOD:PUBLISH
X-PUBLISHED-TTL:P3D
REFRESH-INTERVAL:P3D
CALSCALE:GREGORIAN
BEGIN:VEVENT
DTSTART:20161210T163000Z
DTEND:20161210T180000Z
X-MICROSOFT-CDO-ALLDAYEVENT:FALSE
SUMMARY:Santa's Kitchen with Toe to Toe Ballet
DESCRIPTION:Santa's Kitchen at Matheson Memorial Library with Toe to Toe Ballet
X-ALT-DESC;FMTTYPE=text/html:Santa&#39\;s Kitchen at Matheson Memorial Library with Toe to Toe Ballet
LOCATION:Matheson Memorial Library 101 N Wisconsin St Elkhorn\, WI
UID:e.2059.4563
SEQUENCE:3
DTSTAMP:20260423T135318Z
URL:https://business.elkhornchamber.com/events/details/santa-s-kitchen-with-toe-to-toe-ballet-4563
END:VEVENT

END:VCALENDAR
