BEGIN:VCALENDAR
VERSION:2.0
PRODID:-//ChamberMaster//Event Calendar 2.0//EN
METHOD:PUBLISH
X-PUBLISHED-TTL:P3D
REFRESH-INTERVAL:P3D
CALSCALE:GREGORIAN
BEGIN:VEVENT
DTSTART:20180602T153000Z
DTEND:20180602T170000Z
X-MICROSOFT-CDO-ALLDAYEVENT:FALSE
SUMMARY:Safety Shower
DESCRIPTION:Stop by the lobby of the Matheson Memorial Library to say hi to Ms. Pattie and pick up important information about having a fun - and safe! - summer.
X-ALT-DESC;FMTTYPE=text/html:<span style="background-color:transparent\; color:rgb(0\, 0\, 0)\; font-family:arial\; font-size:11pt">Stop by the lobby of the Matheson Memorial Library to say hi to Ms. Pattie and pick up important information about having a fun - and safe! - summer.</span>
LOCATION:Matheson Memorial Library
UID:e.2059.8930
SEQUENCE:3
DTSTAMP:20260422T073642Z
URL:https://business.elkhornchamber.com/events/details/safety-shower-06-02-2018-8930
END:VEVENT

END:VCALENDAR
