BEGIN:VCALENDAR
VERSION:2.0
PRODID:-//ChamberMaster//Event Calendar 2.0//EN
METHOD:PUBLISH
X-PUBLISHED-TTL:P3D
REFRESH-INTERVAL:P3D
CALSCALE:GREGORIAN
BEGIN:VEVENT
DTSTART:20140920T160000Z
DTEND:20140920T200000Z
X-MICROSOFT-CDO-ALLDAYEVENT:FALSE
SUMMARY:Safety & Fun vs. 911
DESCRIPTION:Walworth County Alliance for Children invites you to a free family day at their Tree House: Child & Family Center located at W4063 Hwy NN in Elkhorn across from the Sheriff's department. Kids' activities\, safety information for in the home\, internet\, bicycle\, pets\, informational booths\, food\, child ID kits and entertainment.
X-ALT-DESC;FMTTYPE=text/html:Walworth County Alliance for Children invites you to a free family day at their Tree House: Child &amp\; Family Center located at W4063 Hwy NN in Elkhorn across from the Sheriff&#39\;s department. Kids&#39\; activities\, safety information for in the home\, internet\, bicycle\, pets\, informational booths\, food\, child ID kits and entertainment.
LOCATION:Tree House: Child & Family Center W4063 Hwy NN\, Elkhorn
UID:e.2059.476
SEQUENCE:3
DTSTAMP:20260425T133823Z
URL:https://business.elkhornchamber.com/events/details/safety-fun-vs-911-09-20-2014-476
END:VEVENT

END:VCALENDAR
