BEGIN:VCALENDAR
VERSION:2.0
PRODID:-//ChamberMaster//Event Calendar 2.0//EN
METHOD:PUBLISH
X-PUBLISHED-TTL:P3D
REFRESH-INTERVAL:P3D
CALSCALE:GREGORIAN
BEGIN:VEVENT
DTSTART;VALUE=DATE:20160917
DTEND;VALUE=DATE:20160918
TRANSP:TRANSPARENT
X-MICROSOFT-CDO-ALLDAYEVENT:TRUE
SUMMARY:Safety Fun 911 Fest
DESCRIPTION:
X-ALT-DESC;FMTTYPE=text/html:
LOCATION:Walworth County Fairgrounds 411 E. Court St Elkhorn\, WI
UID:e.2059.2089
SEQUENCE:3
DTSTAMP:20260423T191652Z
URL:https://business.elkhornchamber.com/events/details/safety-fun-911-fest-09-17-2016-2089
END:VEVENT

END:VCALENDAR
