BEGIN:VCALENDAR
VERSION:2.0
PRODID:-//ChamberMaster//Event Calendar 2.0//EN
METHOD:PUBLISH
X-PUBLISHED-TTL:P3D
REFRESH-INTERVAL:P3D
CALSCALE:GREGORIAN
BEGIN:VEVENT
DTSTART:20140726T140000Z
DTEND:20140726T170000Z
X-MICROSOFT-CDO-ALLDAYEVENT:FALSE
SUMMARY:Run United
DESCRIPTION:Sign up for a 5 mile run or 2 mile run/walk to support United Way of Walworth County. Starting location will be Veterans Park in downtown Elkhorn. After the run\, join us in the square to enjoy all that the Festival of Summer has to offer with crafters and vendors\, entertainment and more.
X-ALT-DESC;FMTTYPE=text/html:Sign up for a 5 mile run or 2 mile run/walk to support United Way of Walworth County. Starting location will be Veterans Park in downtown Elkhorn. After the run\, join us in the square to enjoy all that the Festival of Summer has to offer with crafters and vendors\, entertainment and more.
LOCATION:Starting point is Veterans Park 100 W. Walworth St. Downtown Elkhorn
UID:e.2059.120
SEQUENCE:3
DTSTAMP:20260425T151741Z
URL:https://business.elkhornchamber.com/events/details/run-united-07-26-2014-120
END:VEVENT

END:VCALENDAR
