BEGIN:VCALENDAR
VERSION:2.0
PRODID:-//ChamberMaster//Event Calendar 2.0//EN
METHOD:PUBLISH
X-PUBLISHED-TTL:P3D
REFRESH-INTERVAL:P3D
CALSCALE:GREGORIAN
BEGIN:VEVENT
DTSTART;VALUE=DATE:20150725
DTEND;VALUE=DATE:20150726
TRANSP:TRANSPARENT
X-MICROSOFT-CDO-ALLDAYEVENT:TRUE
SUMMARY:Run United
DESCRIPTION:United Way of Walworth County will host their 6th Annual Run United 5 mile Run - 2 mile Run/Walk during the Rotary Festival of Summer in the downtown square\, Veterans Park. New this year is also a 1 mile Fun Run for kids age 17 and under. Registration is NOW OPEN and can be done online.
X-ALT-DESC;FMTTYPE=text/html:<span>United Way of Walworth County will host their 6th Annual Run United 5 mile Run - 2 mile Run/Walk during the Rotary Festival of Summer in the downtown square\, Veterans Park. New this year is also a 1 mile Fun Run for kids age 17 and under. Registration is NOW OPEN and can be done online.</span>
LOCATION:Downtown Square Elkhorn
UID:e.2059.1626
SEQUENCE:3
DTSTAMP:20260424T180106Z
URL:https://business.elkhornchamber.com/events/details/run-united-07-25-2015-1626
END:VEVENT

END:VCALENDAR
