BEGIN:VCALENDAR
VERSION:2.0
PRODID:-//ChamberMaster//Event Calendar 2.0//EN
METHOD:PUBLISH
X-PUBLISHED-TTL:P3D
REFRESH-INTERVAL:P3D
CALSCALE:GREGORIAN
BEGIN:VEVENT
DTSTART;VALUE=DATE:20160618
DTEND;VALUE=DATE:20160619
TRANSP:TRANSPARENT
X-MICROSOFT-CDO-ALLDAYEVENT:TRUE
SUMMARY:Run United
DESCRIPTION:United Way of Walworth County will host their 7th Annual Run United 5 mile Run - 2 mile Run/Walk\, also a 1 mile Fun Run for kids age 17 and under. Event will be held at Babe Mann Park to kick-off Community Days of Elkhorn. Registration will OPEN  April 1\, 2016 and can be done online.
X-ALT-DESC;FMTTYPE=text/html:<span>United Way of Walworth County will host their 7th Annual Run United 5 mile Run - 2 mile Run/Walk\,&nbsp\;also a 1 mile Fun Run for kids age 17 and under. Event will be held at Babe Mann Park to kick-off Community Days of Elkhorn.&nbsp\;Registration will OPEN &nbsp\;April 1\, 2016 and can be done online.</span>
LOCATION:Babe Mann Park 900 Proctor Drive Elkhorn
UID:e.2059.1991
SEQUENCE:3
DTSTAMP:20260423T234040Z
URL:https://business.elkhornchamber.com/events/details/run-united-06-18-2016-1991
END:VEVENT

END:VCALENDAR
