BEGIN:VCALENDAR
VERSION:2.0
PRODID:-//ChamberMaster//Event Calendar 2.0//EN
METHOD:PUBLISH
X-PUBLISHED-TTL:P3D
REFRESH-INTERVAL:P3D
CALSCALE:GREGORIAN
BEGIN:VEVENT
DTSTART:20200202T000000Z
DTEND:20200202T040000Z
X-MICROSOFT-CDO-ALLDAYEVENT:FALSE
SUMMARY:Rock the Barns : Titans of Tribute - Motley Crue\, Ozzy Osbourne and Poison
DESCRIPTION:Titans of Tribute - Motley Crue\, Ozzy Osbourne and Poison presented by Coors Light and Lake 96.1 WLKG Radio. In our Activity Center so a limited amount of tickets. Tickets on sale in the fair office\, Franks Piggly Wiggly in Elkhorn and East Troy\, and Lake Geneva House of Music. $20 in advance and $25 For more information call 262-723-3228 or email office@walworthcountyfair.com.
X-ALT-DESC;FMTTYPE=text/html:<h1 class="_5gmx" data-testid="event-permalink-event-name" id="seo_h1_tag" style="color: rgb(29\, 33\, 41)\; font-size: 20px\; margin: 0px 12px 0px 0px\; padding: 0px\; line-height: 28px\; font-family: Helvetica\, Arial\, sans-serif\;">Titans of Tribute - Motley Crue\, Ozzy Osbourne and Poison presented by Coors Light and Lake 96.1 WLKG Radio. In our Activity Center so a limited amount of tickets. Tickets on sale in the fair office\, Franks Piggly Wiggly in Elkhorn and East Troy\, and Lake Geneva House of Music. $20 in advance and $25 For more information call 262-723-3228 or email office@walworthcountyfair.<wbr style="font-size: 18px\; color: rgb(51\, 51\, 51)\; font-family: sans-serif\, Arial\, Verdana\, &quot\;Trebuchet MS&quot\;\;" /><span style="font-size: 18px\; color: rgb(51\, 51\, 51)\; font-family: sans-serif\, Arial\, Verdana\, &quot\;Trebuchet MS&quot\;\;">com.</span></h1>\n
LOCATION:Walworth County Fairgrounds
UID:e.2059.11302
SEQUENCE:3
DTSTAMP:20260419T120059Z
URL:https://business.elkhornchamber.com/events/details/rock-the-barns-titans-of-tribute-motley-crue-ozzy-osbourne-and-poison-11302
END:VEVENT

END:VCALENDAR
