BEGIN:VCALENDAR
VERSION:2.0
PRODID:-//ChamberMaster//Event Calendar 2.0//EN
METHOD:PUBLISH
X-PUBLISHED-TTL:P3D
REFRESH-INTERVAL:P3D
CALSCALE:GREGORIAN
BEGIN:VEVENT
DTSTART:20180202T000000Z
DTEND:20180202T040000Z
X-MICROSOFT-CDO-ALLDAYEVENT:FALSE
SUMMARY:Rock the Barns Bella Cain
DESCRIPTION:Bella Cain Live - presented by Coors Light and Lake 96.1 WLKG Radio. In our Activity Center so a limited amount of tickets. Tickets go on sale Monday at 10:00 am in the fair office\, Franks Piggly Wiggly in Elkhorn and East Troy\, and Lake Geneva House of Music. $10 in advance and $15 at the door. Great Burgers\, Chicago Hot Dogs and more by Lefty's Food Truck. For more information call 262-723-3228 or email office@walworthcountyfair.com.
X-ALT-DESC;FMTTYPE=text/html:<span class="_4n-j _3cht fsl" data-testid="event-permalink-details"><span>Bella Cain Live - presented by Coors Light and Lake 96.1 WLKG Radio. In our Activity Center so a limited amount of tickets. Tickets go on sale Monday at 10:00 am in the fair office\, Franks Piggly Wiggly in Elkhorn and East Troy\, and Lake Geneva House of Music. $10 in advance and $15 at the door. Great Burgers\, Chicago Hot Dogs and more by Lefty&#39\;s Food Truck. For more information call 262-723-3228 or email office@walworthcountyfair.</span><wbr />com.</span>
LOCATION:Walworth County Fairgrounds
UID:e.2059.7516
SEQUENCE:3
DTSTAMP:20260422T132943Z
URL:https://business.elkhornchamber.com/events/details/rock-the-barns-bella-cain-7516
END:VEVENT

END:VCALENDAR
