BEGIN:VCALENDAR
VERSION:2.0
PRODID:-//ChamberMaster//Event Calendar 2.0//EN
METHOD:PUBLISH
X-PUBLISHED-TTL:P3D
REFRESH-INTERVAL:P3D
CALSCALE:GREGORIAN
BEGIN:VEVENT
DTSTART:20190509T213000Z
DTEND:20190509T223000Z
X-MICROSOFT-CDO-ALLDAYEVENT:FALSE
SUMMARY:Rock 'n' Read
DESCRIPTION:Are you a rockin' reader? If you are in third\, fourth\, or fifth grade you are invited to join our book club! We will have tasty snacks\, fun crafts\, and talk about our favorite books.
X-ALT-DESC;FMTTYPE=text/html:<span style="color:rgb(0\, 0\, 0)\; font-family:arial\; font-size:14.6667px">Are you a rockin&rsquo\; reader? If you are in third\, fourth\, or fifth grade you are invited to join our book club! We will have tasty snacks\, fun crafts\, and talk about our favorite books.</span>
LOCATION:Matheson Memorial Library
UID:e.2059.10703
SEQUENCE:3
DTSTAMP:20260421T134525Z
URL:https://business.elkhornchamber.com/events/details/rock-n-read-05-09-2019-10703
END:VEVENT

END:VCALENDAR
