BEGIN:VCALENDAR
VERSION:2.0
PRODID:-//ChamberMaster//Event Calendar 2.0//EN
METHOD:PUBLISH
X-PUBLISHED-TTL:P3D
REFRESH-INTERVAL:P3D
CALSCALE:GREGORIAN
BEGIN:VEVENT
DTSTART:20170129T170000Z
DTEND:20170130T000000Z
X-MICROSOFT-CDO-ALLDAYEVENT:FALSE
SUMMARY:Roast Beef & Chicken Dinner- Elkhorn Lions Club
DESCRIPTION:Elkhorn Lions Club Annual\n\nALL YOU CAN EAT ROAST BEEF & CHICKEN DINNER!\n\nMenu consists of Roast Beef\, Baked Chicken\, Mashed Potatoes\, Gravy\, Cole Slaw\, Vegatable\, Rolls and Beverage.\n\n\n\nWe would appreciate your participation and support!
X-ALT-DESC;FMTTYPE=text/html:Elkhorn Lions Club Annual<br />\nALL YOU CAN EAT ROAST BEEF &amp\; CHICKEN DINNER!<br />\nMenu consists of Roast Beef\, Baked Chicken\, Mashed Potatoes\, Gravy\, Cole Slaw\, Vegatable\, Rolls and Beverage.<br />\n<br />\nWe would appreciate your participation and support!
LOCATION:The Monte Carlo Room 720 N. Wisconsin Street Elkhorn\, Wi
UID:e.2059.4628
SEQUENCE:3
DTSTAMP:20260423T123952Z
URL:https://business.elkhornchamber.com/events/details/roast-beef-chicken-dinner-elkhorn-lions-club-4628
END:VEVENT

END:VCALENDAR
