BEGIN:VCALENDAR
VERSION:2.0
PRODID:-//ChamberMaster//Event Calendar 2.0//EN
METHOD:PUBLISH
X-PUBLISHED-TTL:P3D
REFRESH-INTERVAL:P3D
CALSCALE:GREGORIAN
BEGIN:VEVENT
DTSTART;VALUE=DATE:20170928
DTEND;VALUE=DATE:20170929
TRANSP:TRANSPARENT
X-MICROSOFT-CDO-ALLDAYEVENT:TRUE
SUMMARY:Roadmap to Retirement Seminar
DESCRIPTION:Join us for a informational seminar!\n\nRoadmap to Retirement!\n\nThursday\, September 28th with 2 Sessions to choose from at 3:00pm and 6:00pm.\n\nLearn how to build a plan that will answer these questions:\n\nHow to build a cash flow plan that evaluates taxes and future inflation.\n\nWhen should I take social security?\n\nLearn how life changing events may impact your retirement.\n\nWhen is the best time to start withdrawing IRA assets?\n\nEvaluate how money flows thru retirement and impact on assets.
X-ALT-DESC;FMTTYPE=text/html:Join us for a informational seminar!<br />\nRoadmap to Retirement!<br />\nThursday\, September 28th with 2 Sessions to choose from at 3:00pm and 6:00pm.<br />\nLearn how to build a plan that will answer these questions:<br />\nHow to build a cash flow plan that evaluates taxes and future inflation.<br />\nWhen should I take social security?<br />\nLearn how life changing events may impact your retirement.<br />\nWhen is the best time to start withdrawing IRA assets?<br />\nEvaluate how money flows thru retirement and impact on assets.<br />\n<br />\n<br />\n&nbsp\;
LOCATION:Whitewater Country Club N9035 Hwy 89
UID:e.2059.6086
SEQUENCE:3
DTSTAMP:20260422T232229Z
URL:https://business.elkhornchamber.com/events/details/roadmap-to-retirement-seminar-6086
END:VEVENT

END:VCALENDAR
