BEGIN:VCALENDAR
VERSION:2.0
PRODID:-//ChamberMaster//Event Calendar 2.0//EN
METHOD:PUBLISH
X-PUBLISHED-TTL:P3D
REFRESH-INTERVAL:P3D
CALSCALE:GREGORIAN
BEGIN:VEVENT
DTSTART:20140917T230000Z
DTEND:20140918T000000Z
X-MICROSOFT-CDO-ALLDAYEVENT:FALSE
SUMMARY:Retirementology
DESCRIPTION:You're invited to a free education class at Matheson Memorial Library that will provide an overview of what you need to know to achieve your retirement goals. For current and future retirees.
X-ALT-DESC;FMTTYPE=text/html:You&#39\;re invited to a free education class at Matheson Memorial Library that will provide an overview of what you need to know to achieve your retirement goals. For current and future retirees.
LOCATION:Matheson Memorial Library 101 N. Wisconsin St.\, Elkhorn
UID:e.2059.475
SEQUENCE:3
DTSTAMP:20260425T120502Z
URL:https://business.elkhornchamber.com/events/details/retirementology-09-17-2014-475
END:VEVENT

END:VCALENDAR
