BEGIN:VCALENDAR
VERSION:2.0
PRODID:-//ChamberMaster//Event Calendar 2.0//EN
METHOD:PUBLISH
X-PUBLISHED-TTL:P3D
REFRESH-INTERVAL:P3D
CALSCALE:GREGORIAN
BEGIN:VEVENT
DTSTART:20150825T230000Z
DTEND:20150826T003000Z
X-MICROSOFT-CDO-ALLDAYEVENT:FALSE
SUMMARY:Retirement Classroom: Strategies for Social Security and Retirement Income
DESCRIPTION:Join retirement specialists from the Retirement Classroom as they present Strategies for Social Security and Retirement Income\, a class designed to help accomplish the most prevalent goal among retirees   to not run out of money. This class will provide education on the varying methods of filing for Social Security and inform of strategies that can be used to optimize it. The class will also provide a process one might use to calculate what their retirement income need is and introduce a few options on structuring income in retirement.\n\nStrategies for Social Security and Retirement Income will help answer questions such as:\n\n\n	How are my Social Security benefits calculated and taxed?\n	How can I maximize my Social Security Income?\n	How do I calculate how much I need to retire?\n	How can I ensure myself not to run out of money?
X-ALT-DESC;FMTTYPE=text/html:<span style="font-family:verdana\; font-size:14.3999996185303px">Join retirement specialists from the Retirement Classroom as they present Strategies for Social Security and Retirement Income\, a class&nbsp\;</span><span style="font-family:verdana\; font-size:14.3999996185303px">designed to help&nbsp\;accomplish the most prevalent goal among retirees &ndash\; to not run out of money. This class will provide education&nbsp\;on the varying methods of&nbsp\;filing for Social Security and inform of strategies that can be used to optimize it. The class will also provide a process one might use to calculate what their retirement income need is and introduce a few options on structuring income in retirement.</span>\n\n<p>Strategies for Social Security and Retirement Income will help answer questions such as:</p>\n\n<ul>\n	<li>How are my Social Security benefits calculated and taxed?</li>\n	<li>How&nbsp\;can I maximize my Social Security Income?</li>\n	<li>How&nbsp\;do I calculate how much I need to retire?</li>\n	<li>How&nbsp\;can I ensure myself not to run out of money?</li>\n</ul>\n
LOCATION:Matheson Memorial Library Community Room
UID:e.2059.1638
SEQUENCE:3
DTSTAMP:20260424T161733Z
URL:https://business.elkhornchamber.com/events/details/retirement-classroom-strategies-for-social-security-and-retirement-income-08-25-2015-1638
END:VEVENT

END:VCALENDAR
