BEGIN:VCALENDAR
VERSION:2.0
PRODID:-//ChamberMaster//Event Calendar 2.0//EN
METHOD:PUBLISH
X-PUBLISHED-TTL:P3D
REFRESH-INTERVAL:P3D
CALSCALE:GREGORIAN
BEGIN:VEVENT
DTSTART:20150825T210000Z
DTEND:20150825T223000Z
X-MICROSOFT-CDO-ALLDAYEVENT:FALSE
SUMMARY:Retirement Classroom: Getting to Know Medicare
DESCRIPTION:Join retirement specialists from the Retirement Classroom as they present Getting to Know Medicare\, a class designed to acquaint current and future Medicare Beneficiaries with the four parts of Medicare as well as equip them to navigate through the various insurance options.\n\nGetting to know Medicare will help answer:\n\n\n	What are the differences between Medicare Parts A\, B\, C\, and D?\n	What are my options in enrolling for Medicare?\n	What are the differences between Medicare Supplement and Medicare Advantage plans?\n	How do I figure out the Prescription Drug plans and what is the "Donut Hole"?
X-ALT-DESC;FMTTYPE=text/html:<span style="font-family:verdana\; font-size:14.3999996185303px">Join retirement specialists from the Retirement Classroom as they present&nbsp\;</span><em>Getting to Know Medicare\,</em><span style="font-family:verdana\; font-size:14.3999996185303px">&nbsp\;a class designed to acquaint current and future Medicare Beneficiaries with the four parts of Medicare as well as equip them to navigate through the various insurance options.</span><br />\n<span style="font-family:verdana\; font-size:14.3999996185303px">Getting to know Medicare will help answer:</span>\n\n<ul>\n	<li>What are the differences between Medicare Parts A\, B\, C\, and D?</li>\n	<li>What are my options in enrolling for Medicare?</li>\n	<li>What are the differences between Medicare Supplement and Medicare Advantage plans?</li>\n	<li>How do I figure out the Prescription Drug plans and what is the &ldquo\;Donut Hole&rdquo\;?</li>\n</ul>\n
LOCATION:Matheson Memorial Library Community Room
UID:e.2059.1637
SEQUENCE:3
DTSTAMP:20260424T161307Z
URL:https://business.elkhornchamber.com/events/details/retirement-classroom-getting-to-know-medicare-08-25-2015-1637
END:VEVENT

END:VCALENDAR
