BEGIN:VCALENDAR
VERSION:2.0
PRODID:-//ChamberMaster//Event Calendar 2.0//EN
METHOD:PUBLISH
X-PUBLISHED-TTL:P3D
REFRESH-INTERVAL:P3D
CALSCALE:GREGORIAN
BEGIN:VEVENT
DTSTART:20151017T200000Z
DTEND:20151017T210000Z
X-MICROSOFT-CDO-ALLDAYEVENT:FALSE
SUMMARY:Reptomania!
DESCRIPTION:The Science Alliance will dispel common reptilian myths with ?Reptomania!? Steve Schindler\, the expert on all things reptilian\, will introduce huge toads and frogs\, colorful snakes and exotic skinks\, and a humongous monitor lizard! All ages will learn about how different adaptations allow the animals to live in specific habitats and what interesting physical modifications they are capable of to protect themselves from predators. Participation is a key to learning\, and actually being able to see and sometimes touch live animals helps to bring a higher degree of understanding of these incredible creatures. This event takes place in our Kachel Center.
X-ALT-DESC;FMTTYPE=text/html:The Science Alliance will dispel common reptilian myths with ?Reptomania!? Steve Schindler\, the expert on all things reptilian\, will introduce huge toads and frogs\, colorful snakes and exotic skinks\, and a humongous monitor lizard! All ages will learn about how different adaptations allow the animals to live in specific habitats and what interesting physical modifications they are capable of to protect themselves from predators. Participation is a key to learning\, and actually being able to see and sometimes touch live animals helps to bring a higher degree of understanding of these incredible creatures. This event takes place in our Kachel Center.
LOCATION:Young Auditorium - 930 West Main Street\, Whitewater
UID:e.2059.1652
SEQUENCE:3
DTSTAMP:20260424T141346Z
URL:https://business.elkhornchamber.com/events/details/reptomania-10-17-2015-1652
END:VEVENT

END:VCALENDAR
