BEGIN:VCALENDAR
VERSION:2.0
PRODID:-//ChamberMaster//Event Calendar 2.0//EN
METHOD:PUBLISH
X-PUBLISHED-TTL:P3D
REFRESH-INTERVAL:P3D
CALSCALE:GREGORIAN
BEGIN:VEVENT
DTSTART;VALUE=DATE:20160715
DTEND;VALUE=DATE:20160717
TRANSP:TRANSPARENT
X-MICROSOFT-CDO-ALLDAYEVENT:TRUE
SUMMARY:Relay for Life
DESCRIPTION:Relay for Life.\n\nMore information to be released.
X-ALT-DESC;FMTTYPE=text/html:Relay for Life.<br />\nMore information to be released.
LOCATION:Walworth County Fairgrounds 411 E. Court St Elkhorn Wi
UID:e.2059.2084
SEQUENCE:3
DTSTAMP:20260423T233438Z
URL:https://business.elkhornchamber.com/events/details/relay-for-life-07-15-2016-2084
END:VEVENT

END:VCALENDAR
