BEGIN:VCALENDAR
VERSION:2.0
PRODID:-//ChamberMaster//Event Calendar 2.0//EN
METHOD:PUBLISH
X-PUBLISHED-TTL:P3D
REFRESH-INTERVAL:P3D
CALSCALE:GREGORIAN
BEGIN:VEVENT
DTSTART:20151118T013000Z
DTEND:20151118T033000Z
X-MICROSOFT-CDO-ALLDAYEVENT:FALSE
SUMMARY:Red Hot Chilli Pipers
DESCRIPTION:It?s Bagpipes. It?s Rock. It?s Bagrock. The Red Hot Chilli Pipers is an amazing ensemble consisting of pipers\, guitarists\, keyboards\, and drummers. They have been rocking the world from New York to Beijing to Melbourne and everywhere in between with musicianship of the highest order and a passion for pipes that will leave you breathless. Pixar and Disney?s movie ?Brave? featured music played by the Chilli Pipers. Their trademarked sound includes traditional pipe tunes and contemporary anthems like Queen?s ?We Will Rock You\,? Coldplay?s ?Clocks\,? a fantastic rock medley of ?Smoke on the Water? and AC/DC?s ?Thunderstruck.?
X-ALT-DESC;FMTTYPE=text/html:It?s Bagpipes. It?s Rock. It?s Bagrock. The Red Hot Chilli Pipers is an amazing ensemble consisting of pipers\, guitarists\, keyboards\, and drummers. They have been rocking the world from New York to Beijing to Melbourne and everywhere in between with musicianship of the highest order and a passion for pipes that will leave you breathless. Pixar and Disney?s movie ?Brave? featured music played by the Chilli Pipers. Their trademarked sound includes traditional pipe tunes and contemporary anthems like Queen?s ?We Will Rock You\,? Coldplay?s ?Clocks\,? a fantastic rock medley of ?Smoke on the Water? and AC/DC?s ?Thunderstruck.?
LOCATION:Young Auditorium - 930 West Main Street\, Whitewater
UID:e.2059.1654
SEQUENCE:3
DTSTAMP:20260424T111920Z
URL:https://business.elkhornchamber.com/events/details/red-hot-chilli-pipers-11-17-2015-1654
END:VEVENT

END:VCALENDAR
