BEGIN:VCALENDAR
VERSION:2.0
PRODID:-//ChamberMaster//Event Calendar 2.0//EN
METHOD:PUBLISH
X-PUBLISHED-TTL:P3D
REFRESH-INTERVAL:P3D
CALSCALE:GREGORIAN
BEGIN:VEVENT
DTSTART:20160210T010000Z
DTEND:20160210T033000Z
X-MICROSOFT-CDO-ALLDAYEVENT:FALSE
SUMMARY:Ragtime
DESCRIPTION:This 13 time Tony  award-nominated musical is a timeless celebration of life\, based on a true story by E.L. Doctorow. Ragtime returns to the stage in a striking\, all-new touring Broadway production from the producing team that most recently brought the nation The Color Purple and Spamalot. The stories of an upper-class wife\, a determined Jewish immigrant\, and a daring young Harlem musician unfold. Set in turn-of-the-century New York\, all three are united by their desire and belief in a brighter tomorrow. Their compelling stories are set to a rich and glorious Tony  award-winning score by Stephen Flaherty and Lynn Ahrens.
X-ALT-DESC;FMTTYPE=text/html:This 13 time Tony&reg\; award-nominated musical is a timeless celebration of life\, based on a true story by E.L. Doctorow. Ragtime returns to the stage in a striking\, all-new touring Broadway production from the producing team that most recently brought the nation The Color Purple and Spamalot. The stories of an upper-class wife\, a determined Jewish immigrant\, and a daring young Harlem musician unfold. Set in turn-of-the-century New York\, all three are united by their desire and belief in a brighter tomorrow. Their compelling stories are set to a rich and glorious Tony&reg\; award-winning score by Stephen Flaherty and Lynn Ahrens.
LOCATION:Young Auditorium - 930 West Main Street\, Whitewater
UID:e.2059.1661
SEQUENCE:3
DTSTAMP:20260424T063015Z
URL:https://business.elkhornchamber.com/events/details/ragtime-02-09-2016-1661
END:VEVENT

END:VCALENDAR
