BEGIN:VCALENDAR
VERSION:2.0
PRODID:-//ChamberMaster//Event Calendar 2.0//EN
METHOD:PUBLISH
X-PUBLISHED-TTL:P3D
REFRESH-INTERVAL:P3D
CALSCALE:GREGORIAN
BEGIN:VEVENT
DTSTART:20190404T233000Z
DTEND:20190405T010000Z
X-MICROSOFT-CDO-ALLDAYEVENT:FALSE
SUMMARY:Put Your Money Where Your Heart Is
DESCRIPTION:Join UW Extension educator Amanda Kostman as she advises on aligning your finances with what is important to you\, during the American Library Association's annual Money Smart Week
X-ALT-DESC;FMTTYPE=text/html:<span style="color:rgb(0\, 0\, 0)\; font-family:arial\; font-size:12px">Join UW Extension educator Amanda Kostman as she advises on aligning your finances&nbsp\;with what is important to you\, during the American Library Association&#39\;s annual Money Smart Week</span>
LOCATION:Matheson Memorial Library
UID:e.2059.10641
SEQUENCE:3
DTSTAMP:20260421T135131Z
URL:https://business.elkhornchamber.com/events/details/put-your-money-where-your-heart-is-10641
END:VEVENT

END:VCALENDAR
