BEGIN:VCALENDAR
VERSION:2.0
PRODID:-//ChamberMaster//Event Calendar 2.0//EN
METHOD:PUBLISH
X-PUBLISHED-TTL:P3D
REFRESH-INTERVAL:P3D
CALSCALE:GREGORIAN
BEGIN:VEVENT
DTSTART:20140426T223000Z
DTEND:20140427T023000Z
X-MICROSOFT-CDO-ALLDAYEVENT:FALSE
SUMMARY:Purple & Gold Fundraiser
DESCRIPTION:All are invited to join Purple & Gold for their EAHS Academic Scholarship Fundraising Event at Evergreen Golf Club with cocktails beginning at 5:30pm and dinner at 7pm. Enjoy live music from the Novy Spinners. For more information call Susan at 262-642-5746 or email purpleandgoldfund@gmail.com
X-ALT-DESC;FMTTYPE=text/html:All are invited to join Purple &amp\; Gold for their EAHS Academic Scholarship Fundraising Event at Evergreen Golf Club with cocktails beginning at 5:30pm and dinner at 7pm. Enjoy live music from the Novy Spinners. For more information call Susan at 262-642-5746 or email purpleandgoldfund@gmail.com
LOCATION:Evergreen Golf Club HWY 12/67 Elkhorn
UID:e.2059.28
SEQUENCE:3
DTSTAMP:20260425T200040Z
URL:https://business.elkhornchamber.com/events/details/purple-gold-fundraiser-04-26-2014-28
END:VEVENT

END:VCALENDAR
