BEGIN:VCALENDAR
VERSION:2.0
PRODID:-//ChamberMaster//Event Calendar 2.0//EN
METHOD:PUBLISH
X-PUBLISHED-TTL:P3D
REFRESH-INTERVAL:P3D
CALSCALE:GREGORIAN
BEGIN:VEVENT
DTSTART:20150311T233000Z
DTEND:20150312T003000Z
X-MICROSOFT-CDO-ALLDAYEVENT:FALSE
SUMMARY:Promises Made ~ Promises Kept Seminar
DESCRIPTION:Promises made. Promises kept. A look at how you can secure the future with life insurance. Come learn about the benefits\, protections\, and peace of mind life insurance can offer you and your loved ones. Financial security is within your reach.
X-ALT-DESC;FMTTYPE=text/html:Promises made. Promises kept. A look at how you can secure the future with life insurance. Come learn about the benefits\, protections\, and peace of mind life insurance can offer you and your loved ones. Financial security is within your reach.
LOCATION:Big Foot High School Walworth\, WI
UID:e.2059.849
SEQUENCE:3
DTSTAMP:20260425T004413Z
URL:https://business.elkhornchamber.com/events/details/promises-made-promises-kept-seminar-03-11-2015-849
END:VEVENT

END:VCALENDAR
