BEGIN:VCALENDAR
VERSION:2.0
PRODID:-//ChamberMaster//Event Calendar 2.0//EN
METHOD:PUBLISH
X-PUBLISHED-TTL:P3D
REFRESH-INTERVAL:P3D
CALSCALE:GREGORIAN
BEGIN:VEVENT
DTSTART;VALUE=DATE:20180915
DTEND;VALUE=DATE:20180916
TRANSP:TRANSPARENT
X-MICROSOFT-CDO-ALLDAYEVENT:TRUE
SUMMARY:Professional Bull Riding & Dirt Road Dixie Band
DESCRIPTION:Professional Bull Riding 7pm (gates open 4pm). Food Vendors etc. Cindy Jo & Dirt Road Dixie Band 9pm to Close
X-ALT-DESC;FMTTYPE=text/html:Professional Bull Riding 7pm (gates open 4pm). Food Vendors etc. Cindy Jo &amp\; Dirt Road Dixie Band 9pm to Close
LOCATION:Walworth County Fairgrounds
UID:e.2059.8963
SEQUENCE:3
DTSTAMP:20260422T021028Z
URL:https://business.elkhornchamber.com/events/details/professional-bull-riding-dirt-road-dixie-band-8963
END:VEVENT

END:VCALENDAR
