BEGIN:VCALENDAR
VERSION:2.0
PRODID:-//ChamberMaster//Event Calendar 2.0//EN
METHOD:PUBLISH
X-PUBLISHED-TTL:P3D
REFRESH-INTERVAL:P3D
CALSCALE:GREGORIAN
BEGIN:VEVENT
DTSTART:20180922T153000Z
DTEND:20180922T170000Z
X-MICROSOFT-CDO-ALLDAYEVENT:FALSE
SUMMARY:Princess in Black
DESCRIPTION:Are you a sweet princess or a daring monster fighter? Join the Princess in Black and be both!\n\nJoin our party and be prepared to prepared to fight monsters\, disguise yourself\, wear fancy princess clothes\, and more! Costumes welcome!\n\nKids of all ages and abilities welcome.
X-ALT-DESC;FMTTYPE=text/html:<p style="text-align:center"><span style="background-color:transparent\; font-family:arial\; font-size:11pt">Are you a sweet princess or a daring monster fighter? Join the Princess in Black and be both!</span></p>\n\n<p style="text-align:center"><span style="background-color:transparent\; font-family:arial\; font-size:11pt">Join our party and be prepared to prepared to fight monsters\, disguise yourself\, wear fancy princess clothes\, and more! Costumes welcome!</span></p>\n\n<p style="text-align:center"><span style="background-color:transparent\; font-family:arial\; font-size:11pt">Kids of all ages and abilities welcome.</span></p>\n
LOCATION:Matheson Memorial Library
UID:e.2059.9168
SEQUENCE:3
DTSTAMP:20260422T020440Z
URL:https://business.elkhornchamber.com/events/details/princess-in-black-9168
END:VEVENT

END:VCALENDAR
