BEGIN:VCALENDAR
VERSION:2.0
PRODID:-//ChamberMaster//Event Calendar 2.0//EN
METHOD:PUBLISH
X-PUBLISHED-TTL:P3D
REFRESH-INTERVAL:P3D
CALSCALE:GREGORIAN
BEGIN:VEVENT
DTSTART:20170602T230000Z
DTEND:20170603T020000Z
X-MICROSOFT-CDO-ALLDAYEVENT:FALSE
SUMMARY:Pride Potluck and Movie
DESCRIPTION:There will be a free Pride Pot Luck dinner and movie on Friday\, June 2nd from 6:00-9:00 p.m. at Luther Memorial Church\, 910 E. Geneva St.\, Delavan\, WI. All are welcome to attend. This event is sponsored by LGBT of Walworth County. For more information go to www.lgbtwalco.org
X-ALT-DESC;FMTTYPE=text/html:There will be a free Pride Pot Luck dinner and movie on Friday\, June 2nd from 6:00-9:00 p.m. at Luther Memorial Church\, 910 E. Geneva St.\, Delavan\, WI. All are welcome to attend. This event is sponsored by LGBT of Walworth County. For more information go to www.lgbtwalco.org
LOCATION:910 E. Geneva St. Delavan WI
UID:e.2059.5080
SEQUENCE:3
DTSTAMP:20260423T041740Z
URL:https://business.elkhornchamber.com/events/details/pride-potluck-and-movie-5080
END:VEVENT

END:VCALENDAR
