BEGIN:VCALENDAR
VERSION:2.0
PRODID:-//ChamberMaster//Event Calendar 2.0//EN
METHOD:PUBLISH
X-PUBLISHED-TTL:P3D
REFRESH-INTERVAL:P3D
CALSCALE:GREGORIAN
BEGIN:VEVENT
DTSTART:20160619T140000Z
DTEND:20160619T190000Z
X-MICROSOFT-CDO-ALLDAYEVENT:FALSE
SUMMARY:Pride & Joy Car Show
DESCRIPTION:Show off your "Pride and Joy" this Father's Day. Whether it's old or new\, has four wheels or two\, dads love to show off their pride and joy. Open to all Makes and Models. NO entry fee\, however donations will be accepted for the Elkhorn Food Pantry. Goodie Bags & Dash Plaques will be available for the first 75 Cars. So come show off your wheels while also enjoying some music and food.\n\n\n\nHeld at the Elkhorn Chamber and Elkhorn Garage located  on the corner of Lincoln and Walworth Streets.
X-ALT-DESC;FMTTYPE=text/html:<span style="font-size:10.0pt\;">Show off your &ldquo\;Pride and Joy&rdquo\; this Father&#39\;s Day. Whether it&#39\;s old or new\, has four wheels or two\, dads love to show off their pride and joy.</span><span style="font-size:10.0pt\;"> Open to all Makes and Models.</span><span style="font-size:10.0pt\;"> NO entry fee\, however donations will be accepted for the Elkhorn Food Pantry.</span><span style="font-size:10.0pt\;"> Goodie Bags &amp\; Dash Plaques will be available for the first 75 Cars.</span><span style="font-size:10.0pt\;"> So come show off your wheels while also enjoying some music and food.</span><br />\n<br />\n<span style="font-size:10.0pt\;">Held at the Elkhorn Chamber and</span> <span style="font-size:10.0pt\;">Elkhorn Garage located </span> <span style="font-family:calibri\,sans-serif\;"><span style="font-size:10.0pt\;">on the corner of Lincoln and Walworth Streets.</span></span>
LOCATION:203 E. Walworth Street\, Elkhorn Held at the Elkhorn Chamber and Elkhorn Garage located on the corner of Lincoln and Walworth Streets.
UID:e.2059.1990
SEQUENCE:3
DTSTAMP:20260423T234039Z
URL:https://business.elkhornchamber.com/events/details/pride-joy-car-show-06-19-2016-1990
END:VEVENT

END:VCALENDAR
