BEGIN:VCALENDAR
VERSION:2.0
PRODID:-//ChamberMaster//Event Calendar 2.0//EN
METHOD:PUBLISH
X-PUBLISHED-TTL:P3D
REFRESH-INTERVAL:P3D
CALSCALE:GREGORIAN
BEGIN:VEVENT
DTSTART:20150204T150000Z
DTEND:20150204T180000Z
X-MICROSOFT-CDO-ALLDAYEVENT:FALSE
SUMMARY:Power of Attorney Open House
DESCRIPTION:What's a POA? Why do you need one? Who should you choose to be your POA? Come to Peoples Bank to have these and other questions answered. Photo I.D. is required.\n\n\n\nYour own witnesses and who you wish to designate as a decision maker are welcome\, but their presence is not required. Power of Attorney for Healthcare\, Finance\, and Living Will forms will be available as well as witnesses and notaries.
X-ALT-DESC;FMTTYPE=text/html:What&#39\;s a POA? Why do you need one? Who should you choose to be your POA? Come to Peoples Bank to have these and other questions answered. Photo I.D. is required.<br />\n<br />\nYour own witnesses and who you wish to designate as a decision maker are welcome\, but their presence is not required. Power of Attorney for Healthcare\, Finance\, and Living Will forms will be available as well as witnesses and notaries.
LOCATION:Peoples Bank Community Room 837 N. Wisconsin St.\, Elkhorn
UID:e.2059.819
SEQUENCE:3
DTSTAMP:20260425T023203Z
URL:https://business.elkhornchamber.com/events/details/power-of-attorney-open-house-02-04-2015-819
END:VEVENT

END:VCALENDAR
